BEGIN:VCALENDAR
VERSION:2.0
METHOD:PUBLISH
PRODID:-//Agenda.ad//NONSGML v1.0//EN
BEGIN:VEVENT
CLASS:PUBLIC
UID:f54b130304e876c321d07dcd9a8b368d@agenda.ad
DTSTAMP:20260419T201959Z
DTSTART:20260302T230000Z
DTEND:20260302T230000Z
SUMMARY:<h1 class="documentFirstHeading">Taller infantil: "Decorem l'any nou xin&egrave;s"</h1>
<div>&nbsp;</div>
<div id="viewlet-below-content-title">&nbsp;</div>
DESCRIPTION:Infants a partir de 6 anys\n\nMés informació\nhttps://www.
 agenda.ad/activitat/encamp/activitats-infantils/taller-infan
 til-decorem-l-any-nou-xines- - \nBiblioteca comunal d'Enca
 mp
LOCATION:Biblioteca Comunal d'Encamp
SEQUENCE:0
TRANSP:OPAQUE
X-ALT-DESC;FMTTYPE=text/html:<!DOCTYPE HTML PUBLIC "-//W3C//DTD HTML 3.2//EN"><HTML><HEAD
 ><TITLE></TITLE></HEAD><BODY><FONT FACE="Arial" SIZE=2>Infan
 ts a partir de 6 anys<br/><br/><b>Més informació</b><br/><
 a href="https://www.agenda.ad/activitat/encamp/activitats-in
 fantils/taller-infantil-decorem-l-any-nou-xines- - ">https
 ://www.agenda.ad/activitat/encamp/activitats-infantils/talle
 r-infantil-decorem-l-any-nou-xines- - </a><br/>Biblioteca 
 comunal d'Encamp</FONT></BODY></HTML>
END:VEVENT
END:VCALENDAR